Workbook

Sheet 48
G2: Mẫu biểu số 48 TheoNghị định 31/2017/NĐ-CP Ngày 23/03/2017 của Chính phủ
B4: BÁO CÁO QUYẾT TOÁN CÂN ĐỐI NGÂN SÁCH ĐỊA PHƯƠNG NĂM 2025
A5: (Quyết toán được Hội đồng nhân dân xã phê chuẩn)
B6: Đơn vị tính: Đồng
B8: STT | C8: Nội dung (1) | D8: Dự toán | F8: Quyết toán | H8: So Sánh
C9: Nội dung (1) | D9: Dự toán | F9: Quyết toán | H9: Tuyệt đối | I9: Tương đối (%)
B10: A | C10: B | D10: 1 | F10: 2 | H10: 3=2-1 | I10: 4=2/1
B11: A | C11: TỔNG NGUỒN THU NSĐP | D11: =D15+D20+D21+D22 -> 141061623478 | E11: =E15+E20+E21+E22 -> 137849058204 | F11: =F15+F20+F21+F22 -> 141061623478 | H11: =F11-D11 -> 0
B12: I | C12: Thu NSĐP được hưởng theo phân cấp | D12: 0 | F12: 0 | H12: =F12-D12 -> 0
B13: 1 | C13: Các khoản thu NSĐP hưởng 100% | D13: 0 | H13: =F13-D13 -> 0
B14: 2 | C14: Thu NSĐP hưởng từ các khoản thu phân chia | D14: 0 | F14: 0 | H14: =F14-D14 -> 0
B15: II | C15: Thu bổ sung từ ngân sách cấp trên | D15: =D16+D17+D18 -> 126791953150 | E15: =E16+E17+E18 -> 137849058204 | F15: =F16+F17+F18 -> 137883907205 | H15: =F15-D15 -> 11091954055
B16: - | C16: Thu bổ sung cân đối ngân sách | D16: =74612629411-17909000000 -> 56703629411 | E16: 74612629411 | F16: =74612629411-17909000000 -> 56703629411 | H16: =F16-D16 -> 0
B17: - | C17: Thu bổ sung thực hiện cải cách tiền lương | D17: 17909000000 | E17: 0 | F17: =D17 -> 17909000000 | H17: =F17-D17 -> 0
B18: - | C18: Thu bổ sung có mục tiêu | D18: 52179323739 | E18: 63236428793 | F18: =63236428793+34849001 -> 63271277794 | H18: =F18-D18 -> 11091954055
B19: III | C19: Thu từ các khoản cho vay của nhà nước và thu từ quỹ dự trữ tài chính | D19: 0 | F19: 0 | H19: =F19-D19 -> 0
B20: IV | C20: Thu kết dư | D20: 118859680 | F20: 143589106 | H20: =F20-D20 -> 24729426
B21: V | C21: Thu chuyển nguồn từ năm trước chuyển sang | D21: 14100810648 | F21: 2984127167 | H21: =F21-D21 -> -11116683481
B22: VI | C22: Các khoản huy động, đóng góp | D22: 50000000 | F22: 50000000 | H22: =F22-D22 -> 0
B23: B | C23: TỔNG CHI NSĐP | D23: =D24+D31+D34+D35 -> 141061623478 | E23: =E24+E31+E34+E35 -> 0 | F23: =F24+F31+F34+F35 -> 141061623478 | H23: =H24+H31 -> -23160582878
B24: I | C24: Tổng chi cân đối NSĐP | D24: =SUM(D25:D26) -> 87702712677 | E24: =SUM(E25:E26) -> 0 | F24: =SUM(F25:F26) -> 77343723963 | G24: =SUM(G25:G26) -> 0 | H24: =SUM(H25:H26) -> -10358988714 | I24: =F24/D24 -> 0.8818852
B25: 1 | C25: Chi đầu tư phát triển | D25: 9802244000 | F25: 7320982585 | H25: =F25-D25 -> -2481261415 | I25: =F25/D25 -> 0.74686802
B26: 2 | C26: Chi thường xuyên | D26: =77913296043+34849001-273817-47402550 -> 77900468677 | F26: =86344415491-16274271563-47402550 -> 70022741378 | H26: =F26-D26 -> -7877727299 | I26: =F26/D26 -> 0.89887446
B27: 3 | C27: Chi trả nợ lãi các khoản do chính quyền địa phương vay | D27: 0 | F27: 0
B28: 4 | C28: Chi bổ sung quỹ dự trữ tài chính | D28: 0 | F28: 0 | H28: 0
B29: 5 | C29: Chi tạo nguồn, điều chỉnh tiền lương | D29: 0 | F29: 0 | H29: 0
B30: 6 | C30: Dự phòng ngân sách | D30: 0 | F30: 0 | H30: 0
B31: II | C31: Chi các chương trình mục tiêu | D31: =SUM(D32:D33) -> 53180197175 | E31: =SUM(E32:E33) -> 0 | F31: =SUM(F32:F33) -> 40378603011 | G31: =SUM(G32:G33) -> 0 | H31: =SUM(H32:H33) -> -12801594164 | I31: =F31/D31 -> 0.75927893
B32: 1 | C32: Chi các chương trình mục tiêu quốc gia | D32: ='51'!C36 -> 33558523062 | F32: =24138085054-81156156 -> 24056928898 | H32: =F32-D32 -> -9501594164 | I32: =F32/D32 -> 0.71686495
B33: 2 | C33: Chi các chương trình mục tiêu, nhiệm vụ | D33: ='51'!C46 -> 19621674113 | F33: ='51'!D46 -> 16321674113 | H33: =F33-D33 -> -3300000000 | I33: =F33/D33 -> 0.83181863
B34: III | C34: Chi chuyển nguồn năm sau | D34: 0 | F34: =23125733877+34849001 -> 23160582878
B35: IV | C35: Chi nộp ngân sách cấp trên | D35: 178713626 | F35: 178713626 | I35: =F35/D35 -> 1
B36: V | C36: Chi bổ sung cho ngân sách cấp dưới | D36: 0 | F36: 0 | H36: 0
B37: VIII | C37: Các nhiệm vụ chi khác | D37: 0 | F37: 0 | H37: 0
B38: C | C38: BỘI CHI NSĐP/BỘI THU NSĐP/KẾT DƯ NSĐP | D38: 0 | F38: 0 | H38: 0
B39: D | C39: CHI TRẢ NỢ GỐC CỦA NSĐP | D39: 0 | F39: 0 | H39: 0
B40: I | C40: Từ nguồn vay để trả nợ gốc | D40: 0 | F40: 0 | H40: 0
B41: II | C41: Từ nguồn bội thu, tăng thu, tiết kiệm chi, kết dư ngân sách cấp tỉnh | D41: 0 | F41: 0 | H41: 0
B42: E | C42: TỔNG MỨC VAY CỦA NSĐP | D42: 0 | F42: 0 | H42: 0
B43: I | C43: Vay để bù đắp bội chi | D43: 0 | F43: 0 | H43: 0
...

Sheet 50
G2: Mẫu biểu số 50 TheoNghị định 31/2017/NĐ-CP Ngày 23/03/2017 của Chính phủ
B3: BÁO CÁO QUYẾT TOÁN NGUỒN THU NGÂN SÁCH NHÀ NƯỚC TRÊN ĐỊA BÀN THEO LĨNH VỰC NĂM 2025
A4: ='48'!A5:I5 -> (Quyết toán được Hội đồng nhân dân xã phê chuẩn)
B5: Đơn vị tính: Đồng
B7: STT | C7: NỘI DUNG | D7: Dự toán | F7: Quyết toán | H7: So sánh(%)
D8: NSNN | E8: NSĐP | F8: NSNN | G8: NSĐP | H8: NSNN | I8: NSĐP
B9: A | C9: B | D9: 1 | E9: 2 | F9: 3 | G9: 4 | H9: 5=3/1 | I9: 6=4/2
C10: TỔNG NGUỒN THU NSNN(A+B+C+D+E) | D10: =D12+D48+D52+D53 -> 142038623478 | E10: =E12+E48+E52+E53 -> 141011623478 | F10: =F12+F48+F52+F53 -> 142742672206 | G10: =G11+G48+G52+G53 -> 141061623477 | H10: =F10/D10 -> 1.0049567 | I10: =G10/E10 -> 1.0003546
B11: A | C11: TỔNG THU CÂN ĐỐI NSNN | D11: =D12+D36+D37+D46+D47 -> 1027000000 | E11: =E12+E36+E37+E46+E47 -> 0 | F11: =F12+F36+F37+F46+F47 -> 1731048729 | G11: =G12+G36+G37+G46+G47 -> 50000000
B12: I | C12: Thu nội địa | D12: =D13+D14+D16+D17+D21+D22+D23+D24+D25+D26+D27+D28+D29+D30+D32+D33+D34+D35 -> 1027000000 | E12: =E13+E14+E16+E17+E21+E22+E23+E24+E25+E26+E27+E28+E29+E30+E32+E33+E34+E35 -> 0 | F12: =F13+F14+F16+F17+F21+F22+F23+F24+F25+F26+F27+F28+F29+F30+F32+F33+F34+F35 -> 1731048729 | G12: 0
B13: 1 | C13: Thu từ khu vực DNNN do TW quản lý | D13: 0 | E13: 0 | F13: 0 | G13: 0
B14: 2 | C14: Thu từ khu vực DNNN do địa phương quản lý | D14: 0 | E14: 0 | F14: 19583180 | G14: 0
B15: - | C15: Thuế giá trị gia tăng | D15: 0 | F15: 19583180 | G15: 0
B16: 3 | C16: Thu từ khu vực doanh nghiệp có vốn đầu tư nước ngoài | D16: 0 | E16: 0 | F16: 0 | G16: 0
B17: 4 | C17: Thu từ khu vực kinh tế ngoài quốc doanh | D17: =SUM(D18:D19) -> 360000000 | F17: =SUM(F18:F20) -> 174361815 | G17: 0
B18: - | C18: Thuế giá trị gia tăng | D18: 350000000 | F18: 159188704 | G18: 0
B19: - | C19: Thuế tài nguyên | D19: 10000000 | F19: 9573111 | G19: 0
B20: - | C20: Thuế tiêu thụ đặc biệt | F20: 5600000
B21: 5 | C21: Thuế thu nhập cá nhân | D21: 94000000 | E21: 0 | F21: 188137878 | G21: 0
B22: 6 | C22: Thuế bảo vệ môi trường | D22: 0 | E22: 0 | F22: 0 | G22: 0
B23: 7 | C23: Lệ phí trước bạ | D23: 363000000 | E23: 0 | F23: 1170728365 | G23: 0
B24: 8 | C24: Phí, lệ phí | D24: 50000000 | E24: 0 | F24: 48598000 | G24: 0
B25: 9 | C25: Thuế sử dụng đất nông nghiệp | D25: 0 | E25: 0 | F25: 0 | G25: 0
B26: 10 | C26: Thuế sử dụng đất phi nông nghiệp | D26: 0 | E26: 0 | F26: 421976 | G26: 0
B27: 11 | C27: Tiền cho thuê đất, thuê mặt nước | D27: 0 | E27: 0 | F27: 0 | G27: 0
B28: 12 | C28: Tiền sử dụng đất | D28: 0 | E28: 0 | F28: 0 | G28: 0
B29: 13 | C29: Tiền cho thuê và bán nhà thuộc sở hữu nhà nước | D29: 0 | E29: 0 | F29: 0 | G29: 0
B30: 14 | C30: Thu từ hoạt động xổ số kiến thiết | D30: 0 | E30: 0 | F30: 0 | G30: 0
B31: 15 | C31: Thu tiền cấp quyền khai thác khoáng sản, vùng trời, vùng biển | D31: 0 | E31: 0 | F31: 0 | G31: 0
B32: 16 | C32: Thu khác ngân sách | D32: 160000000 | F32: 129217515 | G32: 0
B33: 17 | C33: Thu từ quỹ đất công ích và thu hoa lợi công sản khác | D33: 0 | E33: 0 | F33: 0 | G33: 0
B34: 18 | C34: Thu hồi vốn, thu cổ tức | D34: 0 | E34: 0 | F34: 0 | G34: 0
B35: 19 | C35: Lợi nhuận được chia của Nhà nước và lợi nhuận sau thuế còn lại sau khi trích lập các quỹ của doanh nghiệp nhà nước | D35: 0 | E35: 0 | F35: 0 | G35: 0
B36: II | C36: Thu về dầu thô | D36: 0 | E36: 0 | F36: 0 | G36: 0
B37: III | C37: Thu cân đối từ hoạt động xuất nhập khẩu | D37: 0 | E37: 0 | F37: 0 | G37: 0
B38: 1 | C38: Thuế xuất khẩu | D38: 0 | E38: 0 | F38: 0 | G38: 0
B39: 2 | C39: Thuế nhập khẩu | D39: 0 | E39: 0 | F39: 0 | G39: 0
B40: 3 | C40: Thuế tiêu thụ đặc biệt hàng nhập khẩu | D40: 0 | E40: 0 | F40: 0 | G40: 0
B41: 4 | C41: Thuế giá trị gia tăng hàng nhập khẩu | D41: 0 | E41: 0 | F41: 0 | G41: 0
B42: 5 | C42: Thuế bổ sung đối với hàng hoá nhập khẩu vào Việt Nam | D42: 0 | E42: 0 | F42: 0 | G42: 0
...

Sheet 51
D1: Mẫu biểu số 51 TheoNghị định 31/2017/NĐ-CP Ngày 23/03/2017 của Chính phủ
A4: BÁO CÁO QUYẾT TOÁN CHI NGÂN SÁCH ĐỊA PHƯƠNG THEO LĨNH VỰC NĂM 2025
A5: (Quyết toán được Hội đồng nhân dân xã phê chuẩn)
A6: Đơn vị tính: Đồng
A8: STT | B8: NỘI DUNG (1) | C8: Dự toán | D8: Quyết toán | E8: So sánh (%) | F8: Ghi chú
A9: A | B9: B | C9: 1 | D9: 2 | E9: 3=2/1
B10: TỔNG CHI NGÂN SÁCH ĐỊA PHƯƠNG | C10: =C11+C35+C61+C62+C63 -> 141061623478 | D10: =D11+D35+D61+D62+D63 -> 141061623478 | E10: =D10/C10 -> 1
A11: A | B11: CHI CÂN ĐỐI NSĐP | C11: =C12+C26 -> 87702712677 | D11: =D12+D26 -> 77343723963 | E11: =D11/C11 -> 0.8818852
A12: I | B12: Chi đầu tư phát triển | C12: =C13 -> 9802244000 | D12: 7320982585 | E12: =D12/C12 -> 0.74686802
A13: 1 | B13: Chi đầu tư cho các dự án | C13: 9802244000 | D13: 7320982585 | E13: =D13/C13 -> 0.74686802
B14: Trong đó: Chia theo lĩnh vực | C14: 0 | D14: 0
A15: - | B15: Chi giáo dục - đào tạo và dạy nghề | C15: 6924039000 | D15: 6547697754 | E15: =D15/C15 -> 0.94564715
A16: - | B16: Chi các hoạt động kinh tế | C16: 2878205000 | D16: 773284831 | E16: =D16/C16 -> 0.26866913
A17: - | B17: Chi hoạt động của các cơ quan quản lý nhà nước, Đảng, đoàn thể | C17: 0 | D17: 0
A18: - | B18: Chi văn hoá thông tin | C18: 0 | D18: 0
A19: - | B19: Chi bảo đảm xã hội | C19: 0 | D19: 0
A20: - | B20: Chi cho ngân hàng chính sách xã hội | C20: 0 | D20: 0
B21: Trong đó: Chia theo nguồn vốn | C21: 0 | D21: 0
A22: - | B22: Chi đầu tư từ nguồn thu tiền sử dụng đất | C22: 0 | D22: 0
A23: - | B23: Chi đầu tư từ nguồn thu xổ số kiến thiết | C23: 0 | D23: 0
A24: - | B24: Chi từ nguồn vốn tập trung ngân sách | C24: 0 | D24: 0
A25: 2 | B25: Chi đầu tư phát triển khác | C25: 0 | D25: 0
A26: II | B26: Chi thường xuyên | C26: ='48'!D26 -> 77900468677 | D26: ='48'!F26 -> 70022741378 | E26: =D26/C26 -> 0.89887446
B27: Trong đó: | C27: 0 | D27: 0
A28: 1 | B28: Chi giáo dục - đào tạo và dạy nghề | C28: 50606449324 | D28: 50006749397 | E28: =D28/C28 -> 0.98814973
A29: 2 | B29: Chi khoa học và công nghệ | C29: 0 | D29: 0
A30: III | B30: Chi trả nợ lãi các khoản do chính quyền địa phương vay | C30: 0 | D30: 0
A31: IV | B31: Chi bổ sung quỹ dự trữ tài chính | C31: 0 | D31: 0
A32: V | B32: Dự phòng | C32: 0 | D32: 0
A33: VI | B33: Chi tạo nguồn, điều chỉnh tiền lương | C33: 0 | D33: 0
A34: VIII | B34: Các nhiệm vụ chi khác | C34: 0 | D34: 0
A35: B | B35: CHI CÁC CHƯƠNG TRÌNH MỤC TIÊU | C35: =C36+C46 -> 53180197175 | D35: =D36+D46 -> 40378603011 | E35: =D35/C35 -> 0.75927893
A36: I | B36: Chi các chương trình mục tiêu quốc gia | C36: =C37+C40+C43 -> 33558523062 | D36: =D37+D40+D43 -> 24056928898 | E36: =D36/C36 -> 0.71686495
A37: 1 | B37: Chương trình MTQG xây dựng nông thôn mới | C37: =C38+C39 -> 1149178644 | D37: =D38+D39 -> 734602817 | E37: =D37/C37 -> 0.63924162
B38: + Vốn đầu tư | C38: ='61'!L13 -> 797024644 | D38: 699602817 | E38: =D38/C38 -> 0.87776811
B39: + Vốn sự nghiệp | C39: ='61'!M13 -> 352154000 | D39: 35000000 | E39: =D39/C39 -> 0.099388336
A40: 2 | B40: Chương trình MTQG giảm nghèo bền vững | C40: =C41+C42 -> 13174500245 | D40: =D41+D42 -> 8318594965 | E40: =D40/C40 -> 0.63141636
B41: + Vốn đầu tư | C41: ='61'!H13 -> 5267393835 | D41: 4274791293 | E41: =D41/C41 -> 0.81155718
B42: + Vốn sự nghiệp | C42: ='61'!I13 -> 7907106410 | D42: =4105603672-61800000 -> 4043803672 | E42: =D42/C42 -> 0.51141384
A43: 3 | B43: Chương trình MTQG phát triển KTXH vùng đồng bào DTTS &MN | C43: =C44+C45 -> 19234844173 | D43: =D44+D45 -> 15003731116 | E43: =D43/C43 -> 0.78002873
...

Sheet 52
E2: Mẫu biểu số 52 TheoNghị định 31/2017/NĐ-CP Ngày 23/03/2017 của Chính phủ
A4: BÁO CÁO QUYẾT TOÁN CHI NGÂN SÁCH CẤP XÃ THEO LĨNH VỰC NĂM 2025
A5: ='48'!A5:I5 -> (Quyết toán được Hội đồng nhân dân xã phê chuẩn)
A6: Đơn vị tính: Đồng
A8: STT | B8: Nội dung | C8: Dự toán | D8: Quyết toán | E8: So Sánh
E9: Tuyệt đối | F9: Tương đối (%)
A10: A | B10: B | C10: 1 | D10: 2 | E10: 3=2-1 | F10: 4=2/1
B11: TỔNG CHI NGÂN SÁCH | C11: =C13+C49+C50 -> 141061623478 | D11: =D13+D49+D50 -> 141061623478
A12: A | B12: CHI BỔ SUNG CHO NGÂN SÁCH CẤP DƯỚI | C12: 0 | D12: 0 | E12: 0
A13: B | B13: CHI NGÂN SÁCH THEO LĨNH VỰC | C13: =C14+C31 -> 140882909852 | D13: =D14+D31 -> 117722326974 | E13: =D13-C13 -> -23160582878 | F13: =D13/C13 -> 0.83560403
A14: I | B14: Chi đầu tư phát triển | C14: =C15 -> 25677335393 | D14: 21484044126 | E14: =D14-C14 -> -4193291267 | F14: =D14/C14 -> 0.8366929
A15: 1 | B15: Chi đầu tư cho các dự án | C15: =SUM(C17:C28) -> 25677335393 | D15: =D18+D21+D25 -> 21484044126 | E15: =D15-C15 -> -4193291267 | F15: =D15/C15 -> 0.8366929
A16: - | B16: Chi quốc phòng | C16: 0 | D16: 0 | E16: 0
A17: - | B17: Chi an ninh và trật tự, an toàn xã hội | C17: 0 | D17: 0 | E17: 0
A18: - | B18: Chi giáo dục, đào tạo và dạy nghề | C18: 6924039000 | D18: 6547697754 | E18: =D18-C18 -> -376341246 | F18: =D18/C18 -> 0.94564715
A19: - | B19: Chi khoa học, công nghệ | C19: 0 | D19: 0 | E19: 0
A20: - | B20: Chi y tế, dân số và gia đình | C20: 0 | D20: 0 | E20: 0
A21: - | B21: Chi văn hoá thông tin | C21: 699602817 | D21: 699602817 | E21: =D21-C21 -> 0 | F21: =D21/C21 -> 1
A22: - | B22: Chi phát thanh, truyền hình, thông tấn | C22: 0 | D22: 0 | E22: 0
A23: - | B23: Chi thể dục thể thao | C23: 0 | D23: 0 | E23: 0
A24: - | B24: Chi bảo vệ môi trường | C24: 0 | D24: 0 | E24: 0
A25: - | B25: Chi các hoạt động kinh tế | C25: 18053693576 | D25: 14236743555 | E25: =D25-C25 -> -3816950021 | F25: =D25/C25 -> 0.78857789
A26: - | B26: Chi hoạt động của các cơ quan quản lý nhà nước, Đảng, đoàn thể | C26: 0 | D26: 0 | E26: 0
A27: - | B27: Chi bảo đảm xã hội | C27: 0 | D27: 0 | E27: 0
A28: - | B28: Chi các lĩnh vực khác theo quy định của pháp luật | C28: 0 | D28: 0 | E28: 0
A29: 2 | B29: Chi đầu tư và hỗ trợ vốn cho doanh nghiệp cung cấp sản phẩm, dịch vụ công ích do nhà nước đặt hàng; Các tổ chức kinh tế; Các tổ chức tài chính của trung ương và địa phương | C29: 0 | D29: 0 | E29: 0
A30: 3 | B30: Chi đầu tư phát triển khác theo quy định của pháp luật | C30: 0 | D30: 0 | E30: 0
A31: II | B31: Chi thường xuyên theo lĩnh vực | C31: =SUM(C32:C44) -> 115205574459 | D31: 96238282848 | E31: =D31-C31 -> -18967291611 | F31: =D31/C31 -> 0.83536134
A32: - | B32: Chi quốc phòng | C32: 892747000 | D32: 632144914 | E32: =D32-C32 -> -260602086 | F32: =D32/C32 -> 0.70808965
A33: - | B33: Chi an ninh và trật tự, an toàn xã hội | C33: 501800000 | D33: 442832744 | E33: =D33-C33 -> -58967256 | F33: =D33/C33 -> 0.88248853
A34: - | B34: Chi giáo dục, đào tạo và dạy nghề | C34: 51440156324 | D34: 50437578147 | E34: =D34-C34 -> -1002578177 | F34: =D34/C34 -> 0.98050981
A35: - | B35: Chi khoa học, công nghệ | C35: 0 | D35: 0 | E35: =D35-C35 -> 0
A36: - | B36: Chi y tế, dân số và gia đình | C36: 182406000 | D36: 38223900 | E36: =D36-C36 -> -144182100 | F36: =D36/C36 -> 0.20955396
A37: - | B37: Chi văn hoá thông tin | C37: 446839322 | D37: 329085322 | E37: =D37-C37 -> -117754000 | F37: =D37/C37 -> 0.73647351
A38: - | B38: Chi sự nghiệp phát thanh, truyền hình, thông tấn | C38: 36000000 | D38: 36000000 | E38: =D38-C38 -> 0 | F38: =D38/C38 -> 1
A39: - | B39: Chi thể dục thể thao | C39: 49380000 | D39: 49337480 | E39: =D39-C39 -> -42520 | F39: =D39/C39 -> 0.99913892
A40: - | B40: Chi bảo vệ môi trường | C40: =82527117+200000000 -> 282527117 | D40: 0 | E40: =D40-C40 -> -282527117 | F40: =D40/C40 -> 0
A41: - | B41: Chi các hoạt động kinh tế | C41: 15500190307 | D41: 10087288747 | E41: =D41-C41 -> -5412901560 | F41: =D41/C41 -> 0.65078483
A42: - | B42: Chi hoạt động của các cơ quan quản lý nhà nước, Đảng, đoàn thể | C42: =30169382974+34849001 -> 30204231975 | D42: 29640458954 | E42: =D42-C42 -> -563773021 | F42: =D42/C42 -> 0.98133463
A43: - | B43: Chi đảm bảo xã hội | C43: 4711241750 | D43: 4545332640 | E43: =D43-C43 -> -165909110 | F43: =D43/C43 -> 0.96478442
...

Sheet 54
I2: =J12-C12 -> 0 | S2: Biểu mẫu số 54 Theo Nghị định 31/2017/NĐ-CP Ngày 23/03/2017 của Chính phủ
A4: BÁO CÁO QUYẾT TOÁN CHI NGÂN SÁCH CẤP XÃ CHO TỪNG CƠ QUAN, TỔ CHỨC THEO LĨNH VỰC NĂM 2025 (Dùng cho ngân sách cấp chính quyền địa phương)
A6: ='52'!A5:F5 -> (Quyết toán được Hội đồng nhân dân xã phê chuẩn)
V7: Đơn vị tính: Đồng
C8: Dự toán | J8: Quyết toán | U8: So sánh (%)
A9: STT | B9: Tên đơn vị | C9: Tổng số | E9: Chi đầu tư không kể CTMTQG | F9: Chi thường xuyên không kể CTMTQG | G9: Chi chương trình MTQG | J9: Tổng số | K9: Chi đầu tư không kể CTMTQG | L9: Chi thường xuyên không kể CTMTQG | M9: Chi trả nợ lãi phí tiền vay | N9: Chi bs quỹ dự trữ tài chính | O9: Chi chương trình MTQG | R9: Chi nộp NS cấp trên | S9: Chi bổ sung NS cấp dưới | T9: Chi chuyển nguồn | U9: Chi đầu tư không kể CTMTQG | V9: Chi thường xuyên không kể CTMTQG | W9: Chi chương trình MTQG
G10: Tổng số | H10: Chi đầu tư | I10: Chi thường xuyên | O10: Tổng số | P10: Chi đầu tư | Q10: Chi thường xuyên | W10: Chi đầu tư | Y10: Chi thường xuyên
A11: A | B11: B | C11: 1 | E11: 2 | F11: 3 | G11: 4 | H11: 5 | I11: 6 | J11: 7 | K11: 8 | L11: 9 | M11: 10 | N11: 11 | O11: 12 | P11: 13 | Q11: 14 | R11: 15 | S11: 16 | T11: 17 | U11: 18 | V11: 19 | W11: 20 | Y11: 21
B12: TỔNG CHI | C12: =C13+C14+C15+C16+C17+C18+C19+C20+C21+C22+C23+C24+C25+C26+C27 -> 141061623478 | D12: =D13+D14+D15+D16+D17+D18+D19+D20+D21+D22+D23+D24+D25+D26+D27 -> 32039000 | E12: =E13+E14+E15+E16+E17+E18+E19+E20+E21+E22+E23+E24+E25+E26+E27 -> 9802244000 | F12: =F13+F14+F15+F16+F17+F18+F19+F20+F21+F22+F23+F24+F25+F26+F27 -> 97700856416 | G12: =G13+G14+G15+G16+G17+G18+G19+G20+G21+G22+G23+G24+G25+G26+G27 -> 33558523062 | H12: =H13+H14+H15+H16+H17+H18+H19+H20+H21+H22+H23+H24+H25+H26+H27 -> 15875091393 | I12: =I13+I14+I15+I16+I17+I18+I19+I20+I21+I22+I23+I24+I25+I26+I27 -> 17683431669 | J12: =J13+J14+J15+J16+J17+J18+J19+J20+J21+J22+J23+J24+J25+J26+J27 -> 141061623478 | ... T12: =T13+T14+T15+T16+T17+T18+T19+T20+T21+T22+T23+T24+T25+T26+T27 -> 23160582878 | U12: =K12/E12 -> 0.74686802 | V12: =L12/F12 -> 0.88376314 | W12: =P12/H12 -> 0.89215622 | Y12: =Q12/I12 -> 0.55949928 | Z12: =Z13+Z14+Z15+Z16+Z17+Z18+Z19+Z20+Z21+Z22+Z23+Z24+Z25+Z26 -> #REF!
A13: 1 | B13: Trường Phổ thông dân tộc bán trú THCS Lãng Ngâm | C13: 9184214849 | E13: 0 | F13: 9184214849 | G13: 0 | H13: 0 | I13: 0 | J13: 9184214849 | K13: 0 | L13: 9184214849 | M13: 0 | N13: 0 | O13: 0 | P13: 0 | Q13: 0 | R13: 0 | S13: 0 | T13: 0 | V13: =L13/F13 -> 1
A14: 2 | B14: Trường Tiểu học Thuần Mang | C14: 8950236918 | E14: 0 | F14: 8950236918 | G14: 0 | H14: 0 | I14: 0 | J14: 8950236918 | K14: 0 | L14: 8950236918 | M14: 0 | N14: 0 | O14: 0 | Q14: 0 | R14: 0 | S14: 0 | T14: 0 | V14: =L14/F14 -> 1
A15: 3 | B15: Trường PTDT Bán trú Trung học cơ sở Thuần Mang | C15: 6240923697 | E15: 0 | F15: 6240923697 | G15: 0 | H15: 0 | I15: 0 | J15: 6240923697 | K15: 0 | L15: 6240923697 | M15: 0 | N15: 0 | O15: 0 | P15: 0 | Q15: 0 | R15: 0 | S15: 0 | T15: 0 | V15: =L15/F15 -> 1
A16: 4 | B16: Trường Mầm non Thuần Mang | C16: 6112210248 | E16: 0 | F16: 6112210248 | G16: 0 | H16: 0 | I16: 0 | J16: 6112210248 | K16: 0 | L16: 6112210248 | M16: 0 | N16: 0 | O16: 0 | P16: 0 | Q16: 0 | R16: 0 | S16: 0 | T16: 0 | V16: =L16/F16 -> 1
A17: 5 | B17: Trường Tiểu học Hiệp Lực | C17: 11932758994 | E17: 0 | F17: 11932758994 | G17: 0 | H17: 0 | I17: 0 | J17: 11932758994 | K17: 0 | L17: 11893096994 | M17: 0 | N17: 0 | O17: 0 | P17: 0 | Q17: 0 | R17: 0 | S17: 0 | T17: 39662000 | V17: =L17/F17 -> 0.99667621
A18: 6 | B18: Trường Mầm non Hiệp Lực | C18: 7420309691 | E18: 0 | F18: 7420309691 | G18: 0 | H18: 0 | I18: 0 | J18: 7420309691 | K18: 0 | L18: 7420309691 | M18: 0 | N18: 0 | O18: 0 | P18: 0 | Q18: 0 | R18: 0 | S18: 0 | T18: 0 | V18: =L18/F18 -> 1
A19: 7 | B19: Phòng Giao dịch số 5- Kho bạc Nhà nước khu vực VII | C19: 15000000 | E19: 0 | F19: 15000000 | G19: 0 | H19: 0 | I19: 0 | J19: 15000000 | K19: 0 | L19: 15000000 | M19: 0 | N19: 0 | O19: 0 | P19: 0 | Q19: 0 | R19: 0 | S19: 0 | T19: 0 | V19: =L19/F19 -> 1
A20: 8 | B20: Thuế Cơ sở 7 | C20: 10000000 | E20: 0 | F20: 10000000 | G20: 0 | H20: 0 | I20: 0 | J20: 10000000 | K20: 0 | L20: 10000000 | M20: 0 | N20: 0 | O20: 0 | P20: 0 | Q20: 0 | R20: 0 | S20: 0 | T20: 0 | V20: =L20/F20 -> 1
A21: 9 | B21: Phòng Kinh tế xã Hiệp Lực | C21: 16251350559 | D21: 0 | E21: 0 | F21: 2088071676 | G21: 14163278883 | H21: 4470000000 | I21: 9693278883 | J21: 16251350559 | K21: 0 | L21: 2088071676 | M21: 0 | N21: 0 | O21: 10230450615 | P21: 3746937245 | Q21: 6483513370 | R21: 0 | S21: 0 | T21: 3932828268 | V21: =L21/F21 -> 1 | W21: =P21/H21 -> 0.83824099 | Y21: =Q21/I21 -> 0.6688669 | Z21: =SUM(#REF!) -> #REF!
A22: 10 | B22: Phòng Văn hóa - xã hội xã Hiệp Lực | C22: 20233033673 | D22: 0 | E22: 0 | F22: 16037819673 | G22: 4195214000 | H22: 2640000000 | I22: 1555214000 | J22: 20233033673 | K22: 0 | L22: 16037819673 | M22: 0 | N22: 0 | O22: 3232283000 | P22: 2640000000 | Q22: 592283000 | R22: 0 | S22: 0 | T22: 962931000 | V22: =L22/F22 -> 1 | W22: =P22/H22 -> 1 | Y22: =Q22/I22 -> 0.38083698
A23: 11 | B23: Văn phòng Hội đồng nhân dân và ủy ban nhân dân xã Hiệp Lực | C23: =E23+G23+F23 -> 34897099238 | D23: 32039000 | E23: 9802244000 | F23: 12801364809 | G23: =12293887612-397183 -> 12293490429 | H23: =8765488576-397183 -> 8765091393 | I23: 3528399036 | J23: 34795406512 | K23: 7320982585 | L23: 12801364809 | M23: 0 | N23: 0 | O23: 10349181643 | P23: 7776124296 | Q23: 2573057347 | R23: 0 | S23: 0 | T23: 4323877475 | U23: =K23/E23 -> 0.74686802 | V23: =L23/F23 -> 1 | W23: =P23/H23 -> 0.88716979 | Y23: =Q23/I23 -> 0.72924216
A24: 12 | B24: Trung tâm Phục vụ Hành chính công xã Hiệp Lực | C24: 368207000 | E24: 0 | F24: 368207000 | G24: 0 | H24: 0 | I24: 0 | J24: 368207000 | K24: 0 | L24: 368207000 | M24: 0 | N24: 0 | O24: 0 | P24: 0 | Q24: 0 | R24: 0 | S24: 0 | T24: 0 | V24: =L24/F24 -> 1
A25: 13 | B25: Ủy ban Mặt trận Tổ quốc Việt Nam xã Hiệp Lực | C25: 2013272686 | E25: 0 | F25: 1607403936 | G25: 405868750 | H25: 0 | I25: 405868750 | J25: 2013272686 | K25: 0 | L25: 1607403936 | M25: 0 | N25: 0 | O25: 245013640 | P25: 0 | Q25: 245013640 | R25: 0 | S25: 0 | T25: 160855110 | V25: =L25/F25 -> 1 | Y25: =Q25/I25 -> 0.60367703
A26: 14 | B26: Văn phòng Đảng ủy xã Hiệp Lực | C26: 3615556000 | E26: 0 | F26: 3615556000 | G26: 0 | H26: 0 | I26: 0 | J26: 3615556000 | K26: 0 | L26: 3615556000 | M26: 0 | N26: 0 | O26: 0 | P26: 0 | Q26: 0 | R26: 0 | S26: 0 | T26: 0 | V26: =L26/F26 -> 1
A27: 15 | B27: UBND xã Hiệp Lực | C27: =F27+G27 -> 13817449925 | F27: =13817052741-2500000000+1-273817 -> 11316778925 | G27: =I27 -> 2500671000 | I27: =2500000000+671000 -> 2500671000 | J27: =SUM(K27:T27) -> 13919142651 | R27: 178713626 | T27: =13740429025 -> 13740429025 | V27: =L27/F27 -> 0

Sheet 61
AH1: Biểu mẫu số 61 TheoNghị định 31/2017/NĐ-CP Ngày 23/03/2017 của Chính phủ
B4: QUYẾT TOÁN CHI CHƯƠNG TRÌNH MỤC TIÊU QUỐC GIA NĂM 2025
A5: ='54'!A6:Y6 -> (Quyết toán được Hội đồng nhân dân xã phê chuẩn)
B6: Đơn vị tính: Đồng
B8: STT | C8: Nội dung chi | D8: Dự toán | Q8: Quyết toán | AE8: So sánh
D9: Tổng số | E9: Trong đó | G9: CT MTQG Giảm nghèo bền vững | K9: CT MTQG Xây dựng nông thôn mới | N9: CT MTQG Phát triển KT - XH vùng đồng bào DTTS | Q9: Tổng số | R9: Trong đó | U9: CT MTQG Giảm nghèo bền vững | X9: CT MTQG Xây dựng nông thôn mới | AA9: CT MTQG Phát triển KT - XH vùng đồng bào DTTS | AE9: Tổng số | AF9: Trong đó | AH9: CT MTQG Giảm nghèo bền vững | AK9: CT MTQG Xây dựng nông thôn mới | AN9: CT MTQG Phát triển KT - XH vùng đồng bào DTTS
E10: Vốn đầu tư | F10: Vốn sự nghiệp | G10: Tổng số | H10: Vốn đầu tư | I10: Vốn sự nghiệp | K10: Tổng số | L10: Vốn đầu tư | M10: Vốn sự nghiệp | N10: Tổng số | O10: Vốn đầu tư | P10: Vốn sự nghiệp | R10: Vốn đầu tư | S10: Vốn sự nghiệp | T10: Vốn sự nghiệp | U10: Tổng số | V10: Vốn đầu tư | W10: Vốn sự nghiệp | X10: Tổng số | Y10: Vốn đầu tư | Z10: Vốn sự nghiệp | AA10: Tổng số | AB10: Vốn đầu tư | AC10: Vốn đầu tư | AD10: Vốn sự nghiệp | AF10: Vốn đầu tư | AG10: Vốn sự nghiệp | AH10: Tổng số | AI10: Vốn đầu tư | AJ10: Vốn sự nghiệp | AK10: Tổng số | AL10: Vốn đầu tư | AM10: Vốn sự nghiệp | AN10: Tổng số | AO10: Vốn đầu tư | AP10: Vốn sự nghiệp
B12: A | C12: B | D12: 1 | E12: 2 | F12: 3 | G12: 4 | H12: 5 | I12: 6 | K12: 7 | L12: 8 | M12: 9 | N12: 10 | O12: 11 | P12: 12 | Q12: 13 | R12: 14 | T12: 15 | U12: 16 | V12: 17 | W12: 18 | X12: 19 | Y12: 20 | Z12: 21 | AA12: 22 | AC12: 23 | AD12: 24 | AE12: 25=13/1 | AF12: 26=14/2 | AG12: 27=15/3 | AH12: 28=16/4 | AI12: 29=17/5 | AJ12: 30=18/6 | AK12: 31=19/7 | AL12: 32=20/8 | AM12: 33=21/9 | AN12: 34=22/10 | AO12: 35=23/11 | AP12: 36=24/12
C13: Tổng số | D13: =D14+D15+D16+D17+D18 -> 33558523062 | E13: =E14+E15+E16+E17+E18 -> 15875091393 | F13: =F14+F15+F16+F17+F18 -> 15182760669 | G13: =G14+G15+G16+G17+G18 -> 10673829245 | H13: =H14+H15+H16+H17+H18 -> 5267393835 | I13: =I14+I15+I16+I17+I18 -> 7907106410 | J13: =J14+J15+J16+J17+J18 -> 0 | K13: =K14+K15+K16+K17+K18 -> 1149178644 | ... AD13: =AD14+AD15+AD16+AD17+AD18 -> 5815063685 | AE13: =Q13/D13 -> 0.71686495 | AF13: =R13/E13 -> 0.89215622 | AG13: =T13/F13 -> 0.65165141 | AH13: =T13/G13 -> 0.92692764 | AI13: =V13/H13 -> 0.81155718 | AJ13: =W13/I13 -> 0.51141384 | AK13: =X13/K13 -> 0.63924162 | AL13: =Y13/L13 -> 0.87776811 | AM13: =Z13/M13 -> 0.099388336 | AN13: =AA13/N13 -> 0.78002873 | AO13: =AC13/O13 -> 0.9365991 | AP13: =AD13/P13 -> 0.61703714
B14: 1 | C14: Phòng Kinh tế xã Hiệp Lực | D14: 14163278883 | E14: =H14+L14+O14 -> 4470000000 | F14: 9693278883 | G14: 6651326874 | H14: 3000000000 | I14: 3651326874 | J14: 0 | K14: 262000000 | L14: 0 | M14: 262000000 | N14: 7249952009 | O14: 1470000000 | P14: 5779952009 | Q14: 10230450615 | R14: 3746937245 | S14: 0 | T14: 6483513370 | U14: 5613598372 | V14: 2516189700 | W14: 3097408672 | X14: 25000000 | Y14: 0 | Z14: 25000000 | AA14: 4591852243 | AB14: 0 | AC14: 1230747545 | AD14: 3361104698 | AE14: =Q14/D14 -> 0.72232219 | AF14: =R14/E14 -> 0.83824099 | AG14: =T14/F14 -> 0.6688669 | AH14: =T14/G14 -> 0.97476992 | AI14: =V14/H14 -> 0.8387299 | AJ14: =W14/I14 -> 0.84829674 | AK14: =X14/K14 -> 0.095419847 | AM14: =Z14/M14 -> 0.095419847 | AN14: =AA14/N14 -> 0.63336312 | AO14: =AC14/O14 -> 0.83724323 | AP14: =AD14/P14 -> 0.58151083 | AQ14: =SUM(#REF!) -> #REF!
B15: 2 | C15: Phòng Văn hóa - xã hội xã Hiệp Lực | D15: 4195214000 | E15: =H15+L15+O15 -> 2640000000 | F15: 1555214000 | G15: 681050000 | H15: 0 | I15: 681050000 | J15: 0 | K15: 80154000 | L15: 0 | M15: 80154000 | N15: 3434010000 | O15: 2640000000 | P15: 794010000 | Q15: 3232283000 | R15: 2640000000 | S15: 0 | T15: 592283000 | U15: 59600000 | V15: 0 | W15: 59600000 | X15: 0 | Y15: 0 | Z15: 0 | AA15: 3172683000 | AB15: 0 | AC15: 2640000000 | AD15: 532683000 | AE15: =Q15/D15 -> 0.77046916 | AF15: =R15/E15 -> 1 | AG15: =T15/F15 -> 0.38083698 | AH15: =T15/G15 -> 0.86966155 | AJ15: =W15/I15 -> 0.08751193 | AK15: =X15/K15 -> 0 | AM15: =Z15/M15 -> 0 | AN15: =AA15/N15 -> 0.92390034 | AO15: =AC15/O15 -> 1 | AP15: =AD15/P15 -> 0.67087694 | AQ15: =SUM(#REF!) -> #REF!
B16: 3 | C16: Văn phòng HĐND và UBND xã | D16: =E16+F16 -> 12293490429 | E16: =H16+L16+O16 -> 8765091393 | F16: 3528399036 | G16: 3341452371 | H16: 2267393835 | I16: 1074058536 | J16: 0 | K16: =L16 -> 797024644 | L16: =797421827-397183 -> 797024644 | M16: 0 | N16: 8155013414 | O16: 5700672914 | P16: 2454340500 | Q16: 10349181643 | R16: 7776124296 | S16: 0 | T16: 2573057347 | U16: 2645396593 | V16: 1758601593 | W16: 886795000 | X16: 699602817 | Y16: 699602817 | Z16: 0 | AA16: 7004182233 | AB16: 0 | AC16: 5317919886 | AD16: 1686262347 | AE16: =Q16/D16 -> 0.84184241 | AF16: =R16/E16 -> 0.88716979 | AG16: =T16/F16 -> 0.72924216 | AH16: =T16/G16 -> 0.77004161 | AI16: =V16/H16 -> 0.77560482 | AJ16: =W16/I16 -> 0.82564867 | AK16: =X16/K16 -> 0.87776811 | AL16: =Y16/L16 -> 0.87776811 | AN16: =AA16/N16 -> 0.85888053 | AO16: =AC16/O16 -> 0.93285827 | AP16: =AD16/P16 -> 0.68705314 | AQ16: =SUM(#REF!) -> #REF!
B17: 4 | C17: Ủy ban Mặt trận Tổ quốc Việt Nam xã Hiệp Lực | D17: 405868750 | E17: =H17+L17+O17 -> 0 | F17: 405868750 | G17: 0 | H17: 0 | I17: 0 | K17: 10000000 | L17: 0 | M17: 10000000 | N17: 395868750 | O17: 0 | P17: 395868750 | Q17: 245013640 | R17: 0 | T17: 245013640 | U17: 0 | V17: 0 | W17: 0 | X17: 10000000 | Y17: 0 | Z17: 10000000 | AA17: 235013640 | AC17: 0 | AD17: 235013640 | AE17: =Q17/D17 -> 0.60367703 | AG17: =T17/F17 -> 0.60367703 | AK17: =X17/K17 -> 1 | AM17: =Z17/M17 -> 1 | AN17: =AA17/N17 -> 0.59366555 | AP17: =AD17/P17 -> 0.59366555
B18: 5 | C18: Ủy ban nhân dân xã Hiệp Lực | D18: =I18 -> 2500671000 | E18: =H18+L18+O18 -> 0 | I18: =2500000000+671000 -> 2500671000 | AE18: =Q18/D18 -> 0 | AJ18: =W18/I18 -> 0
I20: 397183
I21: 671000
I22: =I20-I21 -> -273817

Sheet Biểu đầu tư
A2: BÁO CÁO QUYẾT TOÁN VỐN ĐẦU TƯ CÔNG NGUỒN NGÂN SÁCH NHÀ NƯỚC DO ĐỊA PHƯƠNG QUẢN LÝ THEO NĂM NGÂN SÁCH NĂM 2025
A3: ='61'!A5:AP5 -> (Quyết toán được Hội đồng nhân dân xã phê chuẩn)
S5: Đơn vị tính: Đồng
A6: Số TT | B6: Nội dung | C6: Mã chương của đơn vị | D6: Mã dự án | E6: Luỹ kế vốn đã giải ngân từ khởi công đến hết năm ngân sách trước năm quyết toán | G6: Số vốn tạm ứng theo chế độ chưa thu hồi của các năm trước nộp điều chỉnh giảm trong năm quyết toán | H6: Thanh toán khối lượng hoàn thành trong năm quyết toán phần vốn tạm ứng theo chế độ chưa thu hồi từ khởi công đến hết năm ngân sách trước năm quyết toán | I6: Kế hoạch và giải ngân vốn kế hoạch các năm trước được kéo dài thời gian thực hiện và giải ngân sang năm quyết toán | O6: Kế hoạch và giải ngân vốn kế hoạch năm quyết toán (2025) | U6: Số vốn nộp điều chỉnh giảm hoàn trả NSNN trong năm quyết toán do thực hiện kết luận của cơ quan thanh tra, KTNN…(không bao gồm số vốn đã nộp giảm trừ tại cột 8) | V6: Tổng số vốn đã thanh toán khối lượng hoàn thành được quyết toán trong năm ... | W6: Luỹ kế vốn tạm ứng theo chế độ chưa thu hồi đến hết năm quyết toán chuyển sang các năm sau | X6: Lũy kế số vốn đã giải ngân từ khởi công đến hết năm quyết toán
A8: Số | B8: Số | C8: Số | I8: Vốn kế hoạch được kéo dài | J8: Giải ngân | M8: Vốn kế hoạch tiếp tục được phép kéo dài thời gian thực hiện và giải ngân sang năm sau năm quyết toán (nếu có) | N8: Số vốn còn lại chưa giải ngân hủy bỏ (nếu có) | O8: Vốn kế hoạch năm quyết toán | P8: Giải ngân | S8: Vốn kế hoạch được phép kéo dài thời gian thực hiện và giải ngân sang năm sau năm quyết toán (nếu có) | T8: Số vốn còn lại chưa phân bổ, chưa giải ngân hủy bỏ (nếu có)
A9: thứ tự | B9: thứ tự | C9: thứ tự | E9: Tổng số | F9: Trong đó: vốn tạm ứng theo chế độ chưa thu hồi | J9: Tổng số | K9: Thanh toán khối lượng hoàn thành | L9: Vốn tạm ứng | P9: Tổng số | Q9: Thanh toán khối lượng hoàn thành | R9: Vốn tạm ứng
A11: 1 | B11: =A11+1 -> 2 | C11: =B11+1 -> 3 | D11: 4 | E11: 5 | F11: 6 | G11: 7 | H11: 8 | I11: =H11+1 -> 9 | J11: 10=11+12 | K11: 11 | L11: 12 | M11: 13 | N11: 14=9-10-13 | O11: 15 | P11: 16=17+18 | Q11: 17 | R11: 18 | S11: 19 | T11: 20=15-16-19 | U11: 21 | V11: 22=8+11+17 | W11: 23=6-7-8+12+18 | X11: 24=5-7+10+16-21
B12: TỔNG SỐ
B13: Vốn trong nước | E13: =E17+E18 -> 24924510941 | F13: =F17+F18 -> 640100000 | G13: =G17+G18 -> 0 | H13: =H17+H18 -> 640100000 | I13: =I17+I18 -> 671160576 | J13: =J17+J18 -> 461419003 | K13: =K17+K18 -> 461419003 | L13: =L17+L18 -> 0 | ... X13: =X17+X18 -> 47343888067
B14: Vốn nước ngoài, trong đó:
B15: Giải ngân theo cơ chế ghi thu, ghi chi
B16: Giải ngân theo cơ chế tài chính trong nước
A17: A | B17: NGÂN SÁCH CẤP TỈNH
A18: B | B18: NGÂN SÁCH CẤP XÃ | E18: =E20 -> 24924510941 | F18: =F20 -> 640100000 | G18: =G20 -> 0 | H18: =H20 -> 640100000 | I18: =I20 -> 671160576 | J18: =J20 -> 461419003 | K18: =K20 -> 461419003 | L18: =L20 -> 0 | ... X18: =X20 -> 47343888067
A19: B1 | B19: Xã Hiệp Lực | P19: =Q19+R19 -> 0 | T19: =O19-P19-S19 -> 0 | V19: =H19+K19+Q19 -> 0 | X19: =E19-G19+J19+P19-U19 -> 0
A20: - | B20: Vốn trong nước | E20: =E24+E61 -> 24924510941 | F20: =F24+F61 -> 640100000 | G20: =G24+G61 -> 0 | H20: =H24+H61 -> 640100000 | I20: =I24+I61 -> 671160576 | J20: =J24+J61 -> 461419003 | K20: =K24+K61 -> 461419003 | L20: =L24+L61 -> 0 | ... X20: =X24+X61 -> 47343888067
A21: - | B21: Vốn nước ngoài, trong đó: | P21: =Q21+R21 -> 0 | T21: =O21-P21-S21 -> 0 | V21: =H21+K21+Q21 -> 0 | X21: =E21-G21+J21+P21-U21 -> 0
A22: + | B22: Giải ngân theo cơ chế ghi thu, ghi chi | P22: =Q22+R22 -> 0 | T22: =O22-P22-S22 -> 0 | V22: =H22+K22+Q22 -> 0 | X22: =E22-G22+J22+P22-U22 -> 0
A23: + | B23: Giải ngân theo cơ chế tài chính trong nước | P23: =Q23+R23 -> 0 | T23: =O23-P23-S23 -> 0 | V23: =H23+K23+Q23 -> 0 | X23: =E23-G23+J23+P23-U23 -> 0
A24: I | B24: Vốn ngân sách nhà nước theo ngành, lĩnh vực | E24: =E25+E52+E56 -> 3995860000 | F24: =F25+F52+F56 -> 187300000 | G24: =G25+G52+G56 -> 0 | H24: =H25+H52+H56 -> 187300000 | I24: =I25+I52+I56 -> 496205000 | J24: =J25+J52+J56 -> 416583635 | K24: =K25+K52+K56 -> 416583635 | L24: =L25+L52+L56 -> 0 | ... X24: =X25+X52+X56 -> 12809199199
A25: I.1 | B25: Ngành, lĩnh vực Các hoạt động kinh tế (280) | E25: =E26+E27+E28+E29+E30+E31+E32+E33+E34+E35+E36+E37+E38+E39+E40+E41+E42+E43+E44+E45+E46+E47+E48+E49+E50+E51 -> 1133110000 | F25: =F26+F27+F28+F29+F30+F31+F32+F33+F34+F35+F36+F37+F38+F39+F40+F41+F42+F43+F44+F45+F46+F47+F48+F49+F50+F51 -> 187300000 | G25: =G26+G27+G28+G29+G30+G31+G32+G33+G34+G35+G36+G37+G38+G39+G40+G41+G42+G43+G44+G45+G46+G47+G48+G49+G50+G51 -> 0 | H25: =H26+H27+H28+H29+H30+H31+H32+H33+H34+H35+H36+H37+H38+H39+H40+H41+H42+H43+H44+H45+H46+H47+H48+H49+H50+H51 -> 187300000 | I25: =I26+I27+I28+I29+I30+I31+I32+I33+I34+I35+I36+I37+I38+I39+I40+I41+I42+I43+I44+I45+I46+I47+I48+I49+I50+I51 -> 496205000 | J25: =J26+J27+J28+J29+J30+J31+J32+J33+J34+J35+J36+J37+J38+J39+J40+J41+J42+J43+J44+J45+J46+J47+J48+J49+J50+J51 -> 416583635 | K25: =K26+K27+K28+K29+K30+K31+K32+K33+K34+K35+K36+K37+K38+K39+K40+K41+K42+K43+K44+K45+K46+K47+K48+K49+K50+K51 -> 416583635 | L25: =L26+L27+L28+L29+L30+L31+L32+L33+L34+L35+L36+L37+L38+L39+L40+L41+L42+L43+L44+L45+L46+L47+L48+L49+L50+L51 -> 0 | ... X25: =X26+X27+X28+X29+X30+X31+X32+X33+X34+X35+X36+X37+X38+X39+X40+X41+X42+X43+X44+X45+X46+X47+X48+X49+X50+X51 -> 3398751445
A26: 1 | B26: Dự án nâng cấp đường từ QL279 đến khu dân cư Khau Tán, xã Hiệp Lực | C26: 989 | D26: 8054468 | E26: 100000000 | O26: 135000000 | P26: 135000000 | Q26: 135000000 | R26: 0 | S26: 0 | T26: 0 | U26: 0 | V26: 135000000 | W26: 0 | X26: 235000000
A27: 2 | B27: Dự án Đường Bản Nìm - Bản Giang, xã Thuần Mang | C27: 989 | D27: 8077950 | E27: 90000000 | P27: 0 | T27: 0 | V27: 0 | X27: 90000000
A28: 3 | B28: Dự án Đường Nà Mu- Khuổi Chắp giai đoạn 3 | C28: 989 | D28: 7986636 | E28: 140000000 | P28: 0 | T28: 0 | V28: 0 | X28: 140000000
A29: 4 | B29: Dự án Nâng cấp đường từ phân trường Khuổi Luông đến khu dân cư Phia Khao | C29: 989 | D29: 7987913 | E29: 86180000 | P29: 0 | T29: 0 | V29: 0 | X29: 86180000
A30: 5 | B30: Dự án Đường Lũng Miệng- Slam Chiêm | C30: 989 | D30: 7986635 | E30: 86180000 | P30: 0 | T30: 0 | V30: 0 | X30: 86180000
A31: 6 | B31: Dự án Đập kênh Nà Mọn, thôn Pù Cà | C31: 989 | D31: 8054631 | E31: 26200000 | P31: 0 | T31: 0 | V31: 0 | X31: 26200000
A32: 7 | B32: Dự án Cầu Nà Chúa, xã Thuần Mang | C32: 989 | D32: 8054571 | E32: 109000000 | F32: 5300000 | H32: 5300000 | P32: 0 | T32: 0 | V32: 5300000 | X32: 109000000
A33: 8 | B33: Dự án Kênh Nà Pò - Khuổi Chắp | C33: 989 | D33: 8079926 | O33: 40000000 | P33: 40000000 | Q33: 40000000 | R33: 0 | S33: 0 | T33: 0 | U33: 0 | V33: 40000000 | W33: 0 | X33: 40000000
A34: 9 | B34: Dự án Đường sản xuất Nà Cải - Khuổi Lũng | C34: 989 | D34: 8077952 | O34: 50000000 | P34: 50000000 | Q34: 50000000 | R34: 0 | S34: 0 | T34: 0 | U34: 0 | V34: 50000000 | W34: 0 | X34: 50000000
A35: 10 | B35: Dự án Kênh mương Bó Bửn - Nà Cà xã Hiệp Lực | C35: 989 | D35: 8082843 | E35: 34300000 | P35: 0 | T35: 0 | V35: 0 | X35: 34300000
A36: 11 | B36: Dự án Đường từ QL3 đến Bản Pựt - Khuổi Đẩy, thôn Pù Cà | C36: 989 | D36: 8082604 | E36: 40000000 | P36: 0 | T36: 0 | V36: 0 | X36: 40000000
A37: 12 | B37: Dự án Kênh mương thôn Nà Vài, xã Hiệp lực | C37: 989 | D37: 8082607 | E37: 34750000 | P37: 0 | T37: 0 | V37: 0 | X37: 34750000
A38: 13 | B38: Dự án Đường Sản xuất từ QL3 - Khuổi Chủ, xã Hiệp Lực | C38: 989 | D38: 8082600 | E38: 14000000 | O38: 16000000 | P38: 16000000 | Q38: 16000000 | R38: 0 | S38: 0 | T38: 0 | U38: 0 | V38: 16000000 | W38: 0 | X38: 30000000
A39: 15 | B39: Dự án Nâng cấp đường liên thôn từ Khuổi Luông ( xã Lãng Ngâm ) đi Lũng Miệng ( Thuần Mang ) | C39: 989 | D39: 8082606 | E39: 9550000 | P39: 0 | T39: 0 | V39: 0 | X39: 9550000
A40: 16 | B40: Dự án Kênh Khuổi Bốc | C40: 989 | D40: 7987765 | E40: 35000000 | P40: 0 | T40: 0 | V40: 0 | X40: 35000000
A41: 17 | B41: Dự án Kênh Phặc Lốm II ( Đoạn nối tiếp) | C41: 989 | D41: 7987910 | E41: 19050000 | P41: 0 | T41: 0 | V41: 0 | X41: 19050000
A42: 18 | B42: Dự án Kênh Phai Piang đoạn nối tiếp | C42: 989 | D42: 7986637 | E42: 34000000 | I42: 0 | N42: 0 | P42: 0 | T42: 0 | V42: 0 | X42: 34000000
A43: 19 | B43: Dự án Đường Bản Băng - Phai Piang giai đoạn 3 | C43: 989 | D43: 7986638 | E43: 36150000 | I43: 0 | N43: 0 | P43: 0 | T43: 0 | V43: 0 | X43: 36150000
A44: 20 | B44: Dự án Kênh Nà Roọc (đoạn nối tiếp) | C44: 989 | D44: 7986639 | E44: 17500000 | I44: 0 | N44: 0 | P44: 0 | T44: 0 | V44: 0 | X44: 17500000
...
